BEGIN:VCALENDAR
VERSION:2.0
PRODID:-//Stratis iCal API//FR
CALSCALE:GREGORIAN
X-WR-CALNAME:Séance du conseil municipal
BEGIN:VEVENT
UID:event-24427
SUMMARY:Séance du conseil municipal
DESCRIPTION:Le conseil municipal se réunit au minimum une fois par trimestre sur convocation du maire. Par ailleurs  le maire peut réunir l’assemblée délibérante de sa propre initiative chaque fois qu’il le juge utile.
DTSTAMP:20260422T100728Z
DTSTART:20260427T180000Z
DTEND:20260427T180000Z
STATUS:CONFIRMED
SEQUENCE:1
BEGIN:VALARM
TRIGGER:-PT30M
DESCRIPTION:Séance du conseil municipal
ACTION:DISPLAY
END:VALARM
END:VEVENT
END:VCALENDAR