BEGIN:VCALENDAR
VERSION:2.0
PRODID:-//Stratis iCal API//FR
CALSCALE:GREGORIAN
X-WR-CALNAME:Entre sport et nature : relevez le défi en famille !
BEGIN:VEVENT
UID:event-24387
SUMMARY:Entre sport et nature : relevez le défi en famille !
DESCRIPTION:
DTSTAMP:20260411T054352Z
DTSTART:20260509T120000Z
DTEND:20260509T180000Z
STATUS:CONFIRMED
SEQUENCE:1
BEGIN:VALARM
TRIGGER:-PT30M
DESCRIPTION:Entre sport et nature : relevez le défi en famille !
ACTION:DISPLAY
END:VALARM
END:VEVENT
END:VCALENDAR